﻿BEGIN:VCALENDAR
VERSION:2.0
PRODID:-//ENoP - ECPv6.15.17.1//NONSGML v1.0//EN
CALSCALE:GREGORIAN
METHOD:PUBLISH
X-ORIGINAL-URL:https://www.enop.eu
X-WR-CALDESC:Events for ENoP
REFRESH-INTERVAL;VALUE=DURATION:PT1H
X-Robots-Tag:noindex
X-PUBLISHED-TTL:PT1H
BEGIN:VTIMEZONE
TZID:Europe/Brussels
BEGIN:DAYLIGHT
TZOFFSETFROM:+0100
TZOFFSETTO:+0200
TZNAME:CEST
DTSTART:20210328T010000
END:DAYLIGHT
BEGIN:STANDARD
TZOFFSETFROM:+0200
TZOFFSETTO:+0100
TZNAME:CET
DTSTART:20211031T010000
END:STANDARD
BEGIN:DAYLIGHT
TZOFFSETFROM:+0100
TZOFFSETTO:+0200
TZNAME:CEST
DTSTART:20220327T010000
END:DAYLIGHT
BEGIN:STANDARD
TZOFFSETFROM:+0200
TZOFFSETTO:+0100
TZNAME:CET
DTSTART:20221030T010000
END:STANDARD
BEGIN:DAYLIGHT
TZOFFSETFROM:+0100
TZOFFSETTO:+0200
TZNAME:CEST
DTSTART:20230326T010000
END:DAYLIGHT
BEGIN:STANDARD
TZOFFSETFROM:+0200
TZOFFSETTO:+0100
TZNAME:CET
DTSTART:20231029T010000
END:STANDARD
END:VTIMEZONE
BEGIN:VEVENT
DTSTART;TZID=Europe/Brussels:20220914T160000
DTEND;TZID=Europe/Brussels:20220916T123000
DTSTAMP:20260419T164704
CREATED:20220822T110418Z
LAST-MODIFIED:20220822T110418Z
UID:1844-1663171200-1663331400@www.enop.eu
SUMMARY:International Democracy Day Brussels 2022: Democracy in an Era of Geopolitics
DESCRIPTION:2021 was a year of further democratic backsliding in many countries worldwide. Seventy percent of the world’s population now live in either outright non-democratic regimes or democratically backsliding countries\, compared to forty-six percent ten years ago. \nIn December 2021\, one hundred countries joined President Biden’s Summit for Democracy to affirm global commitments to democracy\, with the White House announcing 2022 as a ‘year of action’ to support and promote democracy worldwide. As part of the preparation for this conference\, fourteen leading pro-democracy organisations and think tanks came together and identified Five Messages for the summit that are crucial to advancing democracy worldwide. In the European Union\, a Team Europe Democracy Initiative was also launched to inspire coordination with EU member states on external democracy action. \nRussia’s attack against Ukraine has escalated this shift in the geopolitical landscape. A watershed moment for the future of democracy\, this war further advances anti-democratic trends worldwide. Yet at this same time\, the last few months have seen the international community\, including EU member states\, come together in an unprecedented show of solidarity to protect and support democracy. \nDuring this year’s Democracy Day discussions\, a wide range of high-level speakers\, international democracy advocates\, and activists from both sides of the Atlantic and the Global South will address the challenges of this new world order for democracy. They will discuss the mechanisms to protect and support democracy\, such as Team Europe\, and the potential for greater North-South collaboration. \nProgramme \n14 September \n16.00 – 17.00    Ukrainian civil society manifesto seminar (EED) – online \n15 September 2022 \nIn-person event at the Committee of the Regions \n9.00-9.30    Registration\, coffee and croissants \n9.30-9.35    Video message from Roberta Metsola\, President of European Parliament \n9.35-9.40    Welcome speech by Czech Presidency \n9.40-9.55    Keynote speech on democratic backsliding by Abdalla Hamdok\, former Prime Minister of Sudan \n9.55-10.20    Context session: Shada Islam interviews Richard Youngs\, Senior fellow\, Carnegie Europe \n10.20-11.30    International panel on main theme of conference: Democracy in era of geopolitics \n11.30-11.45    Coffee break \n11.45-13.00   EU Presidencies and the EU External Democracy Agenda: Seizing momentum for democratic change  (International IDEA) \n13.00 -14.00     Lunch break \n14.00 -16.00     Youth Cohort for Democracy: Re-imagining Youth Political and Civic Engagement (EPD) \n16 September \n11.00 – 12.30  Hybrid threats to democracy (ENoP) – online \nThe event is organised with the support of the European Parliament\, Czech Presidency of the Council of the European Union and the European Commission.
URL:https://www.enop.eu/event/idd-brussels-2022/
LOCATION:Online Venue\, Online
CATEGORIES:Events
ATTACH;FMTTYPE=image/png:https://www.enop.eu/wp-content/uploads/2022/08/IDDBanner_NoLogos.png
END:VEVENT
END:VCALENDAR