﻿BEGIN:VCALENDAR
VERSION:2.0
PRODID:-//ENoP - ECPv6.15.17.1//NONSGML v1.0//EN
CALSCALE:GREGORIAN
METHOD:PUBLISH
X-WR-CALNAME:ENoP
X-ORIGINAL-URL:https://www.enop.eu/fr
X-WR-CALDESC:Évènements pour ENoP
REFRESH-INTERVAL;VALUE=DURATION:PT1H
X-Robots-Tag:noindex
X-PUBLISHED-TTL:PT1H
BEGIN:VTIMEZONE
TZID:Europe/Brussels
BEGIN:DAYLIGHT
TZOFFSETFROM:+0100
TZOFFSETTO:+0200
TZNAME:CEST
DTSTART:20210328T010000
END:DAYLIGHT
BEGIN:STANDARD
TZOFFSETFROM:+0200
TZOFFSETTO:+0100
TZNAME:CET
DTSTART:20211031T010000
END:STANDARD
BEGIN:DAYLIGHT
TZOFFSETFROM:+0100
TZOFFSETTO:+0200
TZNAME:CEST
DTSTART:20220327T010000
END:DAYLIGHT
BEGIN:STANDARD
TZOFFSETFROM:+0200
TZOFFSETTO:+0100
TZNAME:CET
DTSTART:20221030T010000
END:STANDARD
BEGIN:DAYLIGHT
TZOFFSETFROM:+0100
TZOFFSETTO:+0200
TZNAME:CEST
DTSTART:20230326T010000
END:DAYLIGHT
BEGIN:STANDARD
TZOFFSETFROM:+0200
TZOFFSETTO:+0100
TZNAME:CET
DTSTART:20231029T010000
END:STANDARD
END:VTIMEZONE
BEGIN:VEVENT
DTSTART;TZID=Europe/Brussels:20220922T160000
DTEND;TZID=Europe/Brussels:20220922T190000
DTSTAMP:20260423T034942
CREATED:20220819T162728Z
LAST-MODIFIED:20220929T091551Z
UID:1828-1663862400-1663873200@www.enop.eu
SUMMARY:Thematic Training | MEP Alviina Alametsä: EU & Foreign Policy
DESCRIPTION:ENoP’s member Educational Centre Visio organises in collaboration with the member of the European Parliament Alviina Alametsä a 2-part training on the EU foreign policy\, delving into it from two different aspects: 1) EU and peacebuilding and 2) EU and feminist foreing policy. \nAccording to the EU Treaties\, the EU’s goal is to ”maintain peace\, prevent conflict and strengthen international security”\, making peacebuilding one of the EU’s core values. In ”the EU and Peacebuilding” –part of the training it will therefore be discussed\, what does the EU do to prevent conflict and to build sustainable peace. To what kind of threats does the EU respond to\, what kind of global peace actor the EU is\, and what tools and instruments it has in its disposal to prevent conflict and build peace\, and what priorities the EU should have in this regard in the coming years? \nThe second part of the training discusses feminist foreign policy. What does it mean\, and why foreign policy should be feminist? How well has the EU integrated gender into the different sectors of its external relations from diplomacy to climate\, peace and security\, and trade? By doing what\, the EU could do more feminist foreign policy? Visiting expert will also explore the EU’s measures to implement the Women\, Peace and Security (WPS) agenda. \nProgramme: \nSession 1 | 22 September at 16–19 CEST (17-20 EEST) – EU and Peace Building \n\nGuest experts and details on the schedule will be revealed by end of August\n\nSession 2 | 27 September at 16:30-18:30 CEST(17.30–19.30 EEST)  – EU and Feminist Foreign Policy  \n\nIntroduction\, MEP Alviina Alametsä\nJakob Dalunde (Swedish Green MEP): Swedish experiences on applications of feminist foreign policy\nEEAS Jonna Naumanen (senior advisor): Women\, Peace and Security (WPS) -agenda of the EU\nDiscussion\n\nRecordings available here: EU and Peace Building | EU and Feminist Foreign Policy  \nThis event is organised with the support of ENoP as part of its current EU co-funded project “Strengthening ENoP as Actor in Support of Democratic and Pluralistic Societies”.
URL:https://www.enop.eu/fr/event/mep-alviina-alametsa-eu-foreign-policy/2022-09-22/
LOCATION:Online Venue\, Online
CATEGORIES:Events
ATTACH;FMTTYPE=image/png:https://www.enop.eu/wp-content/uploads/2022/07/22-06-22_ENoP_Illu_12.png
END:VEVENT
END:VCALENDAR