﻿BEGIN:VCALENDAR
VERSION:2.0
PRODID:-//ENoP - ECPv6.15.17.1//NONSGML v1.0//EN
CALSCALE:GREGORIAN
METHOD:PUBLISH
X-WR-CALNAME:ENoP
X-ORIGINAL-URL:https://www.enop.eu/fr
X-WR-CALDESC:Évènements pour ENoP
REFRESH-INTERVAL;VALUE=DURATION:PT1H
X-Robots-Tag:noindex
X-PUBLISHED-TTL:PT1H
BEGIN:VTIMEZONE
TZID:Europe/Brussels
BEGIN:DAYLIGHT
TZOFFSETFROM:+0100
TZOFFSETTO:+0200
TZNAME:CEST
DTSTART:20210328T010000
END:DAYLIGHT
BEGIN:STANDARD
TZOFFSETFROM:+0200
TZOFFSETTO:+0100
TZNAME:CET
DTSTART:20211031T010000
END:STANDARD
BEGIN:DAYLIGHT
TZOFFSETFROM:+0100
TZOFFSETTO:+0200
TZNAME:CEST
DTSTART:20220327T010000
END:DAYLIGHT
BEGIN:STANDARD
TZOFFSETFROM:+0200
TZOFFSETTO:+0100
TZNAME:CET
DTSTART:20221030T010000
END:STANDARD
BEGIN:DAYLIGHT
TZOFFSETFROM:+0100
TZOFFSETTO:+0200
TZNAME:CEST
DTSTART:20230326T010000
END:DAYLIGHT
BEGIN:STANDARD
TZOFFSETFROM:+0200
TZOFFSETTO:+0100
TZNAME:CET
DTSTART:20231029T010000
END:STANDARD
END:VTIMEZONE
BEGIN:VEVENT
DTSTART;VALUE=DATE:20221124
DTEND;VALUE=DATE:20221125
DTSTAMP:20260424T053354
CREATED:20221026T125247Z
LAST-MODIFIED:20221026T135340Z
UID:2411-1669248000-1669334399@www.enop.eu
SUMMARY:Working Group Democracy
DESCRIPTION:SAVE THE DATE: \nThe next ENoP Working Group Democracy meeting is set to take place on 24 November 2022. \nMore details on the time and agenda will be shared closer to the date. \nENoP members who are not current Working Group members are welcome to join. Please fill out this form to receive further information on meetings and activities linked to the Working Group.
URL:https://www.enop.eu/fr/event/wg-democracy-meeting-24-11-2022/
LOCATION:Online Venue\, Online
CATEGORIES:Expert Group Meetings
ATTACH;FMTTYPE=image/png:https://www.enop.eu/wp-content/uploads/2022/08/Frame-2642.png
END:VEVENT
END:VCALENDAR