﻿BEGIN:VCALENDAR
VERSION:2.0
PRODID:-//ENoP - ECPv6.15.17.1//NONSGML v1.0//EN
CALSCALE:GREGORIAN
METHOD:PUBLISH
X-ORIGINAL-URL:https://www.enop.eu/fr
X-WR-CALDESC:Évènements pour ENoP
REFRESH-INTERVAL;VALUE=DURATION:PT1H
X-Robots-Tag:noindex
X-PUBLISHED-TTL:PT1H
BEGIN:VTIMEZONE
TZID:Europe/Warsaw
BEGIN:DAYLIGHT
TZOFFSETFROM:+0100
TZOFFSETTO:+0200
TZNAME:CEST
DTSTART:20220327T010000
END:DAYLIGHT
BEGIN:STANDARD
TZOFFSETFROM:+0200
TZOFFSETTO:+0100
TZNAME:CET
DTSTART:20221030T010000
END:STANDARD
BEGIN:DAYLIGHT
TZOFFSETFROM:+0100
TZOFFSETTO:+0200
TZNAME:CEST
DTSTART:20230326T010000
END:DAYLIGHT
BEGIN:STANDARD
TZOFFSETFROM:+0200
TZOFFSETTO:+0100
TZNAME:CET
DTSTART:20231029T010000
END:STANDARD
BEGIN:DAYLIGHT
TZOFFSETFROM:+0100
TZOFFSETTO:+0200
TZNAME:CEST
DTSTART:20240331T010000
END:DAYLIGHT
BEGIN:STANDARD
TZOFFSETFROM:+0200
TZOFFSETTO:+0100
TZNAME:CET
DTSTART:20241027T010000
END:STANDARD
END:VTIMEZONE
BEGIN:VEVENT
DTSTART;TZID=Europe/Warsaw:20230120T180000
DTEND;TZID=Europe/Warsaw:20230120T193000
DTSTAMP:20260420T084834
CREATED:20230118T144508Z
LAST-MODIFIED:20230118T144601Z
UID:2684-1674237600-1674243000@www.enop.eu
SUMMARY:Launch | Research on Social Capital in Poland and Hungary
DESCRIPTION:The European Network of Political Foundations and Projekt: Polska Foundation present a study on social trust and human capital in Poland and Hungary. The role of trust in the formation of social capital is crucial due to the current socio–political situation\, in particular the growing political polarization\, significant differences in confidence in the European Union between member\, and finally\, the COVID–19 pandemic. The report describes social capital in Poland and Hungary in terms of four dimensions: 1) Trust\, 2) Norms and values\, 3) Structure and 4) Action.  \nThe study was based on qualitative and quantitative research conducted in Poland and Hungary. The results of the surveys shows that people in both countries are cautious towards others\, and only a minority believes that people can be trusted. Nevertheless\, there are significant differences between countries\, in particular if it comes to declared trust in the European Union\, as in the case of Poland it is the highest of all institutions surveyed\, while in Hungary it is one of the lowest. \nDuring the event\, authors of the report will present their findings in detail\, and will engaged in a discussion about the role of trust in modern democracy. \nProgramme \nWelcome: \n\nMiłosz Hodun\, President\, Projekt: Polska\n\nOpening remarks: \n\nAndrea Virág\, Director\, Republikon Institute\n\nSpeakers: \n\nKrzysztof Mączka\, auothor of the report\, A. Mickiewicz University\nMaciej Milewicz\, author of the report\, independent researcher\n\nModeration: Maja Obrebowska\, Projekt: Polska \nQ&A \nThe event will be taking place in Poznań\, Poland.
URL:https://www.enop.eu/fr/event/launch-research-on-social-capital-in-poland-and-hungary/
LOCATION:Plac Wolności 1\, Poznań\, Poznań\, Poland
CATEGORIES:Events
ATTACH;FMTTYPE=image/png:https://www.enop.eu/wp-content/uploads/2022/03/21-12-10-Enop-Illus_Illu_25.png
END:VEVENT
END:VCALENDAR